BEGIN:VCALENDAR
VERSION:2.0
PRODID:-//Island Eko Pantry - ECPv6.15.20//NONSGML v1.0//EN
CALSCALE:GREGORIAN
METHOD:PUBLISH
X-WR-CALNAME:Island Eko Pantry
X-ORIGINAL-URL:https://islandekopantry.com
X-WR-CALDESC:Events for Island Eko Pantry
REFRESH-INTERVAL;VALUE=DURATION:PT1H
X-Robots-Tag:noindex
X-PUBLISHED-TTL:PT1H
BEGIN:VTIMEZONE
TZID:UTC
BEGIN:STANDARD
TZOFFSETFROM:+0000
TZOFFSETTO:+0000
TZNAME:UTC
DTSTART:20220101T000000
END:STANDARD
END:VTIMEZONE
BEGIN:VEVENT
DTSTART;TZID=UTC:20231209T100000
DTEND;TZID=UTC:20231210T160000
DTSTAMP:20260420T094259
CREATED:20230919T193149Z
LAST-MODIFIED:20230921T190728Z
UID:814-1702116000-1702224000@islandekopantry.com
SUMMARY:Moss Holiday Market
DESCRIPTION:Date: December 9th & 10th 10 am to 4 pm \nVenue: Sir James Douglas Elementary (map) \nAdmission fee: by donation
URL:https://islandekopantry.com/event/moss-holiday-market/
LOCATION:Sir James Douglas Elementary\, 401 Moss St\, Victoria\, BC\, V8V 4N2\, Canada
CATEGORIES:Holiday markets
ATTACH;FMTTYPE=image/jpeg:https://islandekopantry.com/wp-content/uploads/2023/09/302188981_490210606445823_89468767556677105_n.jpeg
END:VEVENT
END:VCALENDAR