BEGIN:VCALENDAR
VERSION:2.0
PRODID:-//Island Eko Pantry - ECPv6.15.20//NONSGML v1.0//EN
CALSCALE:GREGORIAN
METHOD:PUBLISH
X-WR-CALNAME:Island Eko Pantry
X-ORIGINAL-URL:https://islandekopantry.com
X-WR-CALDESC:Events for Island Eko Pantry
REFRESH-INTERVAL;VALUE=DURATION:PT1H
X-Robots-Tag:noindex
X-PUBLISHED-TTL:PT1H
BEGIN:VTIMEZONE
TZID:UTC
BEGIN:STANDARD
TZOFFSETFROM:+0000
TZOFFSETTO:+0000
TZNAME:UTC
DTSTART:20220101T000000
END:STANDARD
END:VTIMEZONE
BEGIN:VEVENT
DTSTART;TZID=UTC:20231202T100000
DTEND;TZID=UTC:20231202T160000
DTSTAMP:20260420T075709
CREATED:20230919T192627Z
LAST-MODIFIED:20230921T190804Z
UID:810-1701511200-1701532800@islandekopantry.com
SUMMARY:The Dickens Fair
DESCRIPTION:Date: December 2nd 10 am to 4 pm \nVenue: James Bay Community Centre (map) \nAdmission fee: $3
URL:https://islandekopantry.com/event/the-dickens-fair/
LOCATION:James Bay Community Centre\, 140 Oswego St\, Victoria\, BC\, V8V 2B1\, Canada
CATEGORIES:Holiday markets
ATTACH;FMTTYPE=image/jpeg:https://islandekopantry.com/wp-content/uploads/2023/09/305359600_455646416582146_4405509342172714012_n.jpeg
END:VEVENT
BEGIN:VEVENT
DTSTART;TZID=UTC:20231203T110000
DTEND;TZID=UTC:20231203T170000
DTSTAMP:20260420T075709
CREATED:20230922T233655Z
LAST-MODIFIED:20231101T193539Z
UID:983-1701601200-1701622800@islandekopantry.com
SUMMARY:Winter Bazaar
DESCRIPTION:Dates: December 3rd 11 am to 5 pm  \nVenue: Gorge Park Pavilion (map) \nAdmission fee: $5 by donation \n 
URL:https://islandekopantry.com/event/winter-bazaar/
LOCATION:Gorge Park Pavilion\, 1070 Tillicum Rd\, Victoria\, BC\, V9A 2A1\, Canada
CATEGORIES:Holiday markets
ATTACH;FMTTYPE=image/jpeg:https://islandekopantry.com/wp-content/uploads/2023/09/382599406_10160833005295943_5033325348407171050_n.jpeg
END:VEVENT
BEGIN:VEVENT
DTSTART;TZID=UTC:20231209T100000
DTEND;TZID=UTC:20231210T160000
DTSTAMP:20260420T075709
CREATED:20230919T193149Z
LAST-MODIFIED:20230921T190728Z
UID:814-1702116000-1702224000@islandekopantry.com
SUMMARY:Moss Holiday Market
DESCRIPTION:Date: December 9th & 10th 10 am to 4 pm \nVenue: Sir James Douglas Elementary (map) \nAdmission fee: by donation
URL:https://islandekopantry.com/event/moss-holiday-market/
LOCATION:Sir James Douglas Elementary\, 401 Moss St\, Victoria\, BC\, V8V 4N2\, Canada
CATEGORIES:Holiday markets
ATTACH;FMTTYPE=image/jpeg:https://islandekopantry.com/wp-content/uploads/2023/09/302188981_490210606445823_89468767556677105_n.jpeg
END:VEVENT
END:VCALENDAR